BEGIN:VCALENDAR
VERSION:2.0
CREATED:20260424T000421Z
PRODID:-//American Strategic Investment Co./Equisolve Calendar v1.0//EN
METHOD:PUBLISH
BEGIN:VEVENT
UID:13df215bc8d39850e8f0ad80981ffdb8
DTSTAMP:20260424T122006Z
DTSTART:20260602T180000Z
DTEND:20260602T190000Z
SUMMARY:2026 Annual Meeting of Stockholders
DESCRIPTION:2026 Annual Meeting of Stockholders\nDate: Jun 2\, 2026 2:00 pm EDT\nWebcast: https://apps.computershare.com/MeetingsShareholderWeb/Home?Code=MLJAF4H&Invitation=&Locale=en
END:VEVENT
END:VCALENDAR
